BEGIN:VCALENDAR
VERSION:2.0
PRODID:-//Squarespace Inc/Squarespace 6//v6//EN
BEGIN:VEVENT
UID:5e1d2e79dfa19430e4dcb16d@squarespace.com
DTSTAMP:20210201T050015Z
DTSTART:20200328T013000Z
DTEND:20200328T043000Z
SUMMARY:*SOLD OUT* MFWF - Wasabi Noosa X San Telmo
END:VEVENT
END:VCALENDAR
