BEGIN:VCALENDAR
VERSION:2.0
PRODID:-//Squarespace Inc/Squarespace 6//v6//EN
BEGIN:VEVENT
UID:5d9ad4728ee65f3d4a951f9d@squarespace.com
DTSTAMP:20200114T025905Z
DTSTART:20191231T060000Z
DTEND:20191231T130000Z
SUMMARY:Tango Into 2020 - NYE at San Telmo
END:VEVENT
END:VCALENDAR
