BEGIN:VCALENDAR
VERSION:2.0
PRODID:-//Squarespace Inc/Squarespace 6//v6//EN
BEGIN:VEVENT
UID:5f9a0e4eb3e0850b3229f583@squarespace.com
DTSTAMP:20201108T224250Z
DTSTART:20201125T070000Z
DTEND:20201125T093000Z
SUMMARY:Melbourne Fashion Week Meyers Place Runway 
END:VEVENT
END:VCALENDAR
