BEGIN:VCALENDAR
VERSION:2.0
PRODID:-//Squarespace Inc/Squarespace 6//v6//EN
BEGIN:VEVENT
UID:60178adfb0f7ff30ebf45737@squarespace.com
DTSTAMP:20210224T022651Z
DTSTART:20210315T073000Z
DTEND:20210315T103000Z
SUMMARY:*SOLD OUT* MFWF - San Telmo X Robata
END:VEVENT
END:VCALENDAR
