BEGIN:VCALENDAR
VERSION:2.0
PRODID:-//Squarespace Inc/Squarespace 6//v6//EN
BEGIN:VEVENT
UID:5d06fa8cc2c5b00001cff5db@squarespace.com
DTSTAMP:20190829T062218Z
DTSTART:20190707T030000Z
DTEND:20190901T130000Z
SUMMARY:Parrillada Sundays
GEO:-37.812241;144.972385
LOCATION:San Telmo\, 14 Meyers Place\, Melbourne\, VIC\, 3000\, Australia
END:VEVENT
END:VCALENDAR
