BEGIN:VCALENDAR
VERSION:2.0
PRODID:-//Squarespace Inc/Squarespace 6//v6//EN
BEGIN:VEVENT
UID:5d67011c36093b00010e4741@squarespace.com
DTSTAMP:20190828T231613Z
DTSTART:20190906T020000Z
DTEND:20190907T100000Z
SUMMARY:Messina Eats + The San Telmo Group
GEO:-33.918212;151.203097
LOCATION:Messina\, 58 Mentmore Avenue\, Rosebery\, NSW\, 2018\, Australia
END:VEVENT
END:VCALENDAR
