BEGIN:VCALENDAR
VERSION:2.0
PRODID:-//Squarespace Inc/Squarespace 6//v6//EN
BEGIN:VEVENT
UID:5d06fbe7b440990001ba98fa@squarespace.com
DTSTAMP:20210215T010108Z
DTSTART:20210201T010000Z
DTEND:20211115T050000Z
SUMMARY:Lomito y Choripan Lunch Special
GEO:-37.812241;144.972385
LOCATION:San Telmo\, 14 Meyers Place\, Melbourne\, VIC\, 3000\, Australia
END:VEVENT
END:VCALENDAR
