BEGIN:VCALENDAR
VERSION:2.0
PRODID:-//Squarespace Inc/Squarespace 6//v6//EN
BEGIN:VEVENT
UID:5d88566068af8823783dd94d@squarespace.com
DTSTAMP:20190923T053505Z
DTSTART:20190927T020000Z
DTEND:20190928T140000Z
SUMMARY:Grand Final Weekend 27th - 29th September
GEO:-37.812241;144.972385
LOCATION:San Telmo\, 14 Meyers Place\, Melbourne 3000\, Australia
END:VEVENT
END:VCALENDAR
