BEGIN:VCALENDAR
VERSION:2.0
PRODID:-//Squarespace Inc/Squarespace 6//v6//EN
BEGIN:VEVENT
UID:5f7aa0fcf54a403205336009@squarespace.com
DTSTAMP:20201020T045430Z
DTSTART:20201005T010000Z
DTEND:20201024T060000Z
SUMMARY:Celebrate the Grand Final with The San Telmo Group
GEO:-37.812241;144.972385
LOCATION:San Telmo\, 14 Meyers Place\, Melbourne\, VIC\, 3000\, Australia
END:VEVENT
END:VCALENDAR
