BEGIN:VCALENDAR
VERSION:2.0
PRODID:-//Squarespace Inc/Squarespace 6//v6//EN
BEGIN:VEVENT
UID:5f3c7f99b2ee234c9ffb4a60@squarespace.com
DTSTAMP:20201005T042844Z
DTSTART:20200905T020000Z
DTEND:20200906T070000Z
SUMMARY:SOLD OUT - Father's Day with San Telmo
GEO:-37.812241;144.972385
LOCATION:San Telmo\, 14 Meyers Place\, Melbourne\, VIC\, 3000\, Australia
END:VEVENT
END:VCALENDAR
