BEGIN:VCALENDAR
VERSION:2.0
PRODID:-//Squarespace Inc/Squarespace 6//v6//EN
BEGIN:VEVENT
UID:5d4cb7ae7cf2e00001583aba@squarespace.com
DTSTAMP:20190809T001416Z
DTSTART:20190901T013000Z
DTEND:20190901T130000Z
SUMMARY:Father's Day 2019
END:VEVENT
END:VCALENDAR
