BEGIN:VCALENDAR
VERSION:2.0
PRODID:-//Squarespace Inc/Squarespace 6//v6//EN
BEGIN:VEVENT
UID:5d1bf61df1a7270001b1c57a@squarespace.com
DTSTAMP:20190809T071739Z
DTSTART:20190810T043000Z
DTEND:20190810T070000Z
SUMMARY:Eat\, Drink\, Repeat – Winter Edition
END:VEVENT
END:VCALENDAR
