BEGIN:VCALENDAR
VERSION:2.0
PRODID:-//Squarespace Inc/Squarespace 6//v6//EN
BEGIN:VEVENT
UID:5e57511005c7f9197eaed543@squarespace.com
DTSTAMP:20200304T031811Z
DTSTART:20200502T020000Z
DTEND:20200502T063000Z
SUMMARY:Eat\, Drink\, Repeat
GEO:-37.81584;144.971036
LOCATION:pastuso
END:VEVENT
END:VCALENDAR
