BEGIN:VCALENDAR
VERSION:2.0
PRODID:-//Squarespace Inc/Squarespace 6//v6//EN
BEGIN:VEVENT
UID:5faa269a3511d8442bada8fc@squarespace.com
DTSTAMP:20201203T233959Z
DTSTART:20201203T000000Z
DTEND:20201206T125900Z
SUMMARY:*ALMOST SOLD OUT* BBQ Masterclass - Christmas in the Laneway event 
GEO:-37.812241;144.972385
LOCATION:San Telmo\, 14 Meyers Place\, Melbourne\, VIC\, 3000\, Australia
END:VEVENT
END:VCALENDAR
