BEGIN:VCALENDAR
VERSION:2.0
PRODID:-//Squarespace Inc/Squarespace 6//v6//EN
BEGIN:VEVENT
UID:5dccccb90b644077fc5a00fc@squarespace.com
DTSTAMP:20191223T015544Z
DTSTART:20191201T060000Z
DTEND:20191224T130000Z
SUMMARY:Christmas Gift Guide 
END:VEVENT
END:VCALENDAR
