BEGIN:VCALENDAR
VERSION:2.0
PRODID:-//Squarespace Inc/Squarespace 6//v6//EN
BEGIN:VEVENT
UID:5d33e5144ce26b0001342146@squarespace.com
DTSTAMP:20191014T221704Z
DTSTART:20191019T013000Z
DTEND:20191019T043000Z
SUMMARY:Best of Beef 2019 - SOLD OUT
END:VEVENT
END:VCALENDAR
