BEGIN:VCALENDAR
VERSION:2.0
PRODID:-//Squarespace Inc/Squarespace 6//v6//EN
BEGIN:VEVENT
UID:5d37fb895fa8c500015b64e7@squarespace.com
DTSTAMP:20190815T025253Z
DTSTART:20190825T030000Z
DTEND:20190825T050000Z
SUMMARY:BBQ Masterclass
GEO:-37.776488;144.929404
LOCATION:The Ascot Lot\, 448-462 Mount Alexander Road\, Ascot Vale\, VIC\, 
 3032\, Australia
END:VEVENT
END:VCALENDAR
