BEGIN:VCALENDAR
VERSION:2.0
PRODID:-//Squarespace Inc/Squarespace 6//v6//EN
BEGIN:VEVENT
UID:5d1bf560d619670001ec78ba@squarespace.com
DTSTAMP:20190707T065925Z
DTSTART:20190709T003000Z
DTEND:20190709T133000Z
SUMMARY:Independence Day at San Telmo
END:VEVENT
END:VCALENDAR
