BEGIN:VCALENDAR
VERSION:2.0
PRODID:-//Squarespace Inc/Squarespace 6//v6//EN
BEGIN:VEVENT
UID:6004cc4cec2475411ea8afd8@squarespace.com
DTSTAMP:20210119T052336Z
DTSTART:20210214T010000Z
DTEND:20210214T120000Z
SUMMARY:Valentine's Day at San Telmo
GEO:-37.812241;144.972385
LOCATION:San Telmo\, 14 Meyers Place\, Melbourne\, VIC\, 3000\, Australia
END:VEVENT
END:VCALENDAR
