BEGIN:VCALENDAR
VERSION:2.0
PRODID:-//Squarespace Inc/Squarespace 6//v6//EN
BEGIN:VEVENT
UID:5fc840c98eecd53e39e40643@squarespace.com
DTSTAMP:20201203T234600Z
DTSTART:20201203T010000Z
DTEND:20201225T050000Z
SUMMARY:The San Telmo Group Christmas Shop
END:VEVENT
END:VCALENDAR
