BEGIN:VCALENDAR
VERSION:2.0
PRODID:-//Squarespace Inc/Squarespace 6//v6//EN
BEGIN:VEVENT
UID:5ef2b34e175e910064f5273b@squarespace.com
DTSTAMP:20200810T013242Z
DTSTART:20200614T020000Z
DTEND:20200731T060000Z
SUMMARY:San Telmo At Home - Dinner Boxes 
END:VEVENT
END:VCALENDAR
