BEGIN:VCALENDAR
VERSION:2.0
PRODID:-//Squarespace Inc/Squarespace 6//v6//EN
BEGIN:VEVENT
UID:5efc04b4465672465f3d5fcd@squarespace.com
DTSTAMP:20200701T034202Z
DTSTART:20200709T020000Z
DTEND:20200709T120000Z
SUMMARY:Argentinian Independence Day
END:VEVENT
END:VCALENDAR
