BEGIN:VCALENDAR
VERSION:2.0
PRODID:-//Squarespace Inc/Squarespace 6//v6//EN
BEGIN:VEVENT
UID:5ee0620ecdaded134b05988c@squarespace.com
DTSTAMP:20210120T222025Z
DTSTART:20210117T010000Z
DTEND:20211219T050000Z
SUMMARY:San Telmo's Bottomless Lunch
END:VEVENT
END:VCALENDAR
