BEGIN:VCALENDAR
VERSION:2.0
PRODID:-//Squarespace Inc/Squarespace 6//v6//EN
BEGIN:VEVENT
UID:5fa243f4abfcc76953463212@squarespace.com
DTSTAMP:20201230T032737Z
DTSTART:20201231T053000Z
DTEND:20201231T133000Z
SUMMARY:*ALMOST SOLD OUT* New Years' Street Feast San Telmo X MFWF
END:VEVENT
END:VCALENDAR
