BEGIN:VCALENDAR
VERSION:2.0
PRODID:-//Squarespace Inc/Squarespace 6//v6//EN
BEGIN:VEVENT
UID:5d06f001d800ce0001217787@squarespace.com
DTSTAMP:20190707T070007Z
DTSTART:20190709T083000Z
DTEND:20190709T103000Z
SUMMARY:Passport To Argentina: BA In A Day
GEO:-37.812241;144.972385
LOCATION:San Telmo\, 14 Meyers Place\, Melbourne\, VIC\, 3000\, Australia
END:VEVENT
END:VCALENDAR
